BEGIN:VCALENDAR
VERSION:2.0
PRODID:-//St Edmund Hall//NONSGML v1.0//EN
CALSCALE:GREGORIAN
METHOD:PUBLISH
BEGIN:VTIMEZONE
TZID:Europe/London
BEGIN:DAYLIGHT
TZOFFSETFROM:+0000
TZOFFSETTO:+0100
TZNAME:BST
DTSTART:19700329T010000
RRULE:FREQ=YEARLY;BYMONTH=3;BYDAY=-1SU
END:DAYLIGHT
BEGIN:STANDARD
TZOFFSETFROM:+0100
TZOFFSETTO:+0000
TZNAME:GMT
DTSTART:19701025T020000
RRULE:FREQ=YEARLY;BYMONTH=10;BYDAY=-1SU
END:STANDARD
END:VTIMEZONE
BEGIN:VEVENT
UID:14588-20240229@seh.ox.ac.uk
SEQUENCE:0
STATUS:CONFIRMED
TRANSP:TRANSPARENT
DTSTART;TZID=Europe/London:20240229T213000
DTEND;TZID=Europe/London:20240229T213000
DTSTAMP:20240118T154230
SUMMARY:Compline by Candlelight
LOCATION:Crypt
CATEGORIES:Chapel\, Event Highlight
URL:https://www.seh.ox.ac.uk/events/compline-by-candlelight-ht24?es=20240229
END:VEVENT
END:VCALENDAR