BEGIN:VCALENDAR
VERSION:2.0
PRODID:-//St Edmund Hall//NONSGML v1.0//EN
CALSCALE:GREGORIAN
METHOD:PUBLISH
BEGIN:VTIMEZONE
TZID:Europe/London
BEGIN:DAYLIGHT
TZOFFSETFROM:+0000
TZOFFSETTO:+0100
TZNAME:BST
DTSTART:19700329T010000
RRULE:FREQ=YEARLY;BYMONTH=3;BYDAY=-1SU
END:DAYLIGHT
BEGIN:STANDARD
TZOFFSETFROM:+0100
TZOFFSETTO:+0000
TZNAME:GMT
DTSTART:19701025T020000
RRULE:FREQ=YEARLY;BYMONTH=10;BYDAY=-1SU
END:STANDARD
END:VTIMEZONE
BEGIN:VEVENT
UID:17200-20260325@seh.ox.ac.uk
SEQUENCE:0
STATUS:CONFIRMED
TRANSP:TRANSPARENT
DTSTART;TZID=Europe/London:20260325T180000
DTEND;TZID=Europe/London:20260325T200000
DTSTAMP:20260210T144946
SUMMARY:Aularian Drinks in Hong Kong
LOCATION:The Helena May\, The Helena May\, 35 Garden Rd\, Central\, Hong Kong
ORGANIZER;CN="Lydia%20Smith":MAILTO:lydia.smith@seh.ox.ac.uk
CATEGORIES:Alumni\, Event Highlight
URL:https://www.seh.ox.ac.uk/events/hong-kong-drinks-2026?es=20260325
END:VEVENT
END:VCALENDAR