BEGIN:VCALENDAR
VERSION:2.0
PRODID:-//St Edmund Hall//NONSGML v1.0//EN
CALSCALE:GREGORIAN
METHOD:PUBLISH
BEGIN:VTIMEZONE
TZID:Europe/London
BEGIN:DAYLIGHT
TZOFFSETFROM:+0000
TZOFFSETTO:+0100
TZNAME:BST
DTSTART:19700329T010000
RRULE:FREQ=YEARLY;BYMONTH=3;BYDAY=-1SU
END:DAYLIGHT
BEGIN:STANDARD
TZOFFSETFROM:+0100
TZOFFSETTO:+0000
TZNAME:GMT
DTSTART:19701025T020000
RRULE:FREQ=YEARLY;BYMONTH=10;BYDAY=-1SU
END:STANDARD
END:VTIMEZONE
BEGIN:VEVENT
UID:17494-20260426@seh.ox.ac.uk
SEQUENCE:0
STATUS:CONFIRMED
TRANSP:TRANSPARENT
DTSTART;TZID=Europe/London:20260426T181500
DTEND;TZID=Europe/London:20260426T181500
DTSTAMP:20260420T142252
SUMMARY:Chapel Evensong Trinity 2026
LOCATION:Chapel\, St Edmund Hall\, Queen's Lane\, Oxford\, OX1 4AR
ORGANIZER;CN="Lyndon%20Drake":MAILTO:lyndon.drake@seh.ox.ac.uk
CATEGORIES:Chapel\, Home Page
URL:https://www.seh.ox.ac.uk/events/choral-evensong-trinity-2026?es=20260426
END:VEVENT
END:VCALENDAR